BEGIN:VCALENDAR
VERSION:2.0
PRODID:-//hacksw/handcal//NONSGML v1.0//EN
BEGIN:VEVENT
SUMMARY:Trail Cens'ationel a Orvault
UID:89ec4262-9b5e-41be-8919-947b947071cf
DTSTART:20260913T063000Z
DTEND:20260913T110000Z
LOCATION:Localisation   
CATEGORIES:Sportif
STATUS:
DESCRIPTION:<p> </p>
 
 <p><strong>La Seconde edition du Trail
 Cens'ationnel organise  par  le  SC Orvault </strong>, venez
 decouvrir un format original ou vous pouvez choisir entre <strong>12
 , 21 ou 30 km solo ou relais </strong> a parcourir sur les rives du
 Cens . N'hesitez pas a vous inscrire rapidement ....les dossards
 partent vite </p>
 
 <p><span
 style="color:#2980b9;"><strong>https://www.timepulse.fr/evenements/voir/3303/trail-cens-ationnel-orvault-orvault</strong></span></p>
 
 <p>A
 vous de jouer </p>
 
 <p> </p>
 
 <p> </p>
URL;VALUE=URI:https://www.saintherblaintriathlon.fr/evenements/2026/09/13/trail-censationel-a-orvault-2443565
END:VEVENT
END:VCALENDAR
