BEGIN:VCALENDAR
VERSION:2.0
PRODID:-//hacksw/handcal//NONSGML v1.0//EN
BEGIN:VEVENT
SUMMARY:Course des Vikings a Indre
UID:540541df-5361-4ec4-9c20-af53bff90983
DTSTART:20260925T220000Z
DTEND:20260926T220000Z
LOCATION:Localisation rue des chaintres 44 indre
CATEGORIES:Sportif
STATUS:
DESCRIPTION:<p><strong>La Course des Vikings a Indre </strong>,
 organisee au profit de la lutte contre les cancers pediatriques .
 Notre equipier et coach Matthieu Costes participe a cette belle
 organisation , aussi nous souhaitons que de nombreux equipiers soient
 au depart soit du <strong>10 ou du 5Km</strong> pour les plus presses
 . </p>
 
 <p><strong>https://www.timepulse.fr/evenements/voir/3339/6eme-edition-des-foulees-viikings-indre</strong></p>
URL;VALUE=URI:https://www.saintherblaintriathlon.fr/evenements/2026/09/26/course-des-vikings-a-indre-2443574
END:VEVENT
END:VCALENDAR
